BEGIN:VCALENDAR
VERSION:2.0
PRODID:-//hacksw/handcal//NONSGML v1.0//EN
BEGIN:VEVENT
SUMMARY:Soiree pyjama
UID:a97da904-a3af-480c-a351-b270d78a6781
DTSTART:20260623T220000Z
DTEND:20260624T220000Z
LOCATION:Localisation   
CATEGORIES:Sportif
STATUS:
DESCRIPTION:<p>Soiree pyjama sur les cours
 habituels</p><p>17h-18h</p><p><br></p><p>18h-19h</p><p><br></p><p>19h-20h30
 les cours ados adultes judo-Jujitsu-Taiso</p>
URL;VALUE=URI:https://www.judoclubphalsbourg.fr/evenements/2026/06/24/soiree-pyjama-2426187
END:VEVENT
END:VCALENDAR
