BEGIN:VCALENDAR
VERSION:2.0
PRODID:-//hacksw/handcal//NONSGML v1.0//EN
BEGIN:VEVENT
SUMMARY:Challenge Ponga
UID:80b2e8fb-2680-4ff1-994a-481dcde481f1
DTSTART:20260613T070000Z
DTEND:20260613T090000Z
LOCATION:Localisation   
CATEGORIES:Sportif
STATUS:
DESCRIPTION:<p style="text-align:center;">Challenge ludique des
 enfants des cours du samedi matin.</p><p><br></p><p><b>CULTURE
 JUDO:</b></p><p class="s3"
 style="font-size:18px;"><span>Comment </span><span>dit
 on</span><span> « </span><span>arreter</span><span> </span><span>»
 : </span><span><b>MATE</b></span></p><p class="s3"
 style="font-size:18px;"><span>Que veut dire
 mate</span><span> ?: </span><span><b>ARRETER</b></span></p><p
 class="s3" style="font-size:18px;"><span>Comment </span><span>dit
 on</span><span> « commencer »: <b>HAJIME</b></span></p><p
 class="s3" style="font-size:18px;"><span>Que veut
 dire </span><span>hajime</span><span> ? </span><span><b>COMMENCER</b></span></p><p
 class="s3" style="font-size:18px;"><span>Faire un salut
 debout</span></p><p class="s3" style="font-size:18px;"><span>Faire le
 salut au sol</span></p><p class="s3"
 style="font-size:18px;"><span>Comment s’appelle ton entraineur?:
  <b>LUCAS</b></span></p><p class="s3"
 style="font-size:18px;"><span>La ceinture rose,
 existe-t-elle</span><span> ?: <b>NON</b></span></p><p class="s3"
 style="font-size:18px;"><span>Comment s’appelle la tenue du judoka:
 <b>JUDOJI</b> OU <b>KIMONO</b> </span></p><p class="s3"
 style="font-size:18px;"><span>Le ju</span><span>doka pratique quel
 sport</span><span> ?</span><span> : <b>JUDO</b></span></p><p
 class="s3" style="font-size:18px;"><span><b><br></b></span></p><p
 class="s3"
 style="font-size:18px;"><span><b>MOTRICITE </b></span></p><p
 class="s3" style="font-size:18px;"><br></p><p class="s3"
 style="font-size:18px;">Parcours a reussir</p><p class="s3"
 style="font-size:18px;"><br></p><p class="s3"
 style="font-size:18px;"><b>MOTRICITE AVEC ACCESSOIRE</b></p><p
 class="s3" style="font-size:18px;"><b><br></b></p><p class="s3"
 style="font-size:18px;">Parcours a reussir avec les tapis,...</p><p
 class="s3" style="font-size:18px;"><br></p><p class="s3"
 style="font-size:18px;"><b>RANDORIS</b></p><p class="s3"
 style="font-size:18px;"><b><br></b></p><p class="s3"
 style="font-size:18px;">Petit combats sol</p><p class="s3"
 style="font-size:18px;"><br></p><p class="s3"
 style="font-size:18px;"><b>COMPORTEMENT</b></p><p class="s3"
 style="font-size:18px;"><br></p><p class="s3"
 style="font-size:18px;">Attitude lors de la seance </p><p class="s3"
 style="font-size:18px;"><br></p><p class="s3"
 style="font-size:18px;"><br></p><p class="s3"
 style="font-size:18px;"><br></p><p class="s3"
 style="font-size:18px;">Remise des recompenses a la fete de fin
 d'annee </p><p class="s3" style="font-size:18px;"><br></p>
URL;VALUE=URI:https://www.judoclubphalsbourg.fr/evenements/2026/06/13/challenge-ponga-1953226
END:VEVENT
END:VCALENDAR
